BEGIN:VCALENDAR
VERSION:2.0
PRODID:-//heartview.org//NONSGML kigkonsult.se iCalcreator 2.30.10//
CALSCALE:GREGORIAN
METHOD:PUBLISH
UID:fd1e322a-053a-40b3-ad0b-1a5d1a4293c7
X-WR-CALDESC:How to Donate to Heartview During Early Giving\nGetting involv
 ed and supporting Heartview is easy:\n1.	Visit the Giving Hearts Day Websit
 e: Go to the official Giving Hearts Day website and search for Heartview B
 ismarck\, Dickinson\, or Cando (or click the links below). Donating is sim
 ple and secure. You can make a donation to Heartview via the Giving Hearts
  Day platform anytime until February 12. Every dollar counts!\n<a href='ht
 tps://app.givingheartsday.org/?_gl=1*1bq5cne*_gcl_aw*R0NMLjE3MzU4NDIwMTMuQ
 2owS0NRaUFqOW03QmhEMUFSSXNBTnNJSXZEZl9nS3AxVlVobkRaVEtOc3V2YTJOY2VINmplN0x
 wbXc1ZVktS3VhaVYxSXdiSmpMQjJ1Y2FBZ3BTRUFMd193Y0I.*_gcl_au*MTY2ODY1OTI0OC4x
 NzM1ODQyMDEz#/charity/247'>Bismarck </a>\n<a href='https://app.givingheart
 sday.org/?_gl=1*1bq5cne*_gcl_aw*R0NMLjE3MzU4NDIwMTMuQ2owS0NRaUFqOW03QmhEMU
 FSSXNBTnNJSXZEZl9nS3AxVlVobkRaVEtOc3V2YTJOY2VINmplN0xwbXc1ZVktS3VhaVYxSXdi
 SmpMQjJ1Y2FBZ3BTRUFMd193Y0I.*_gcl_au*MTY2ODY1OTI0OC4xNzM1ODQyMDEz#/charity
 /248'>Cando </a>\n<a href='https://app.givingheartsday.org/?_gl=1*1bq5cne*
 _gcl_aw*R0NMLjE3MzU4NDIwMTMuQ2owS0NRaUFqOW03QmhEMUFSSXNBTnNJSXZEZl9nS3AxVl
 VobkRaVEtOc3V2YTJOY2VINmplN0xwbXc1ZVktS3VhaVYxSXdiSmpMQjJ1Y2FBZ3BTRUFMd193
 Y0I.*_gcl_au*MTY2ODY1OTI0OC4xNzM1ODQyMDEz#/charity/1875'>Dickinson- “Proje
 ct Open Skies”</a>\n\n2.	Mail a Check: Send a check dated Feb. 12 and indic
 ate that the donation is for Giving Hearts Day.\nHeartview Foundation\, At
 tn: Ron\n101 E Broadway Ave\nBismarck\, ND 58501
X-WR-RELCALID:25ccf10cadbb8284e4ee1ab6ac1385c7
X-WR-TIMEZONE:America/Chicago
BEGIN:VTIMEZONE
TZID:America/Chicago
BEGIN:STANDARD
TZNAME:CST
DTSTART:20251102T020000
TZOFFSETFROM:-0500
TZOFFSETTO:-0600
RDATE:20261101T020000
END:STANDARD
BEGIN:DAYLIGHT
TZNAME:CDT
DTSTART:20250309T020000
TZOFFSETFROM:-0600
TZOFFSETTO:-0500
RDATE:20260308T020000
RDATE:20270314T020000
END:DAYLIGHT
END:VTIMEZONE
BEGIN:VEVENT
UID:7daa5c4d-7bb9-4d49-a1ba-d82a856ea147
DTSTAMP:20260423T035128Z
DESCRIPTION:How to Donate to Heartview During Early Giving\nGetting involve
 d and supporting Heartview is easy:\n1.	Visit the Giving Hearts Day Website
 : Go to the official Giving Hearts Day website and search for Heartview Bi
 smarck\, Dickinson\, or Cando (or click the links below). Donating is simp
 le and secure. You can make a donation to Heartview via the Giving Hearts 
 Day platform anytime until February 12. Every dollar counts!\n<a href='htt
 ps://app.givingheartsday.org/?_gl=1*1bq5cne*_gcl_aw*R0NMLjE3MzU4NDIwMTMuQ2
 owS0NRaUFqOW03QmhEMUFSSXNBTnNJSXZEZl9nS3AxVlVobkRaVEtOc3V2YTJOY2VINmplN0xw
 bXc1ZVktS3VhaVYxSXdiSmpMQjJ1Y2FBZ3BTRUFMd193Y0I.*_gcl_au*MTY2ODY1OTI0OC4xN
 zM1ODQyMDEz#/charity/247'>Bismarck </a>\n<a href='https://app.givinghearts
 day.org/?_gl=1*1bq5cne*_gcl_aw*R0NMLjE3MzU4NDIwMTMuQ2owS0NRaUFqOW03QmhEMUF
 SSXNBTnNJSXZEZl9nS3AxVlVobkRaVEtOc3V2YTJOY2VINmplN0xwbXc1ZVktS3VhaVYxSXdiS
 mpMQjJ1Y2FBZ3BTRUFMd193Y0I.*_gcl_au*MTY2ODY1OTI0OC4xNzM1ODQyMDEz#/charity/
 248'>Cando </a>\n<a href='https://app.givingheartsday.org/?_gl=1*1bq5cne*_
 gcl_aw*R0NMLjE3MzU4NDIwMTMuQ2owS0NRaUFqOW03QmhEMUFSSXNBTnNJSXZEZl9nS3AxVlV
 obkRaVEtOc3V2YTJOY2VINmplN0xwbXc1ZVktS3VhaVYxSXdiSmpMQjJ1Y2FBZ3BTRUFMd193Y
 0I.*_gcl_au*MTY2ODY1OTI0OC4xNzM1ODQyMDEz#/charity/1875'>Dickinson- “Projec
 t Open Skies”</a>\n\n2.	Mail a Check: Send a check dated Feb. 12 and indica
 te that the donation is for Giving Hearts Day.\nHeartview Foundation\, Att
 n: Ron\n101 E Broadway Ave\nBismarck\, ND 58501
DTSTART;TZID=America/Chicago:20260212T050000
DTEND;TZID=America/Chicago:20260212T050001
LOCATION:https://heartview.org/get-involved/news/newsroom.html/article/2026
 /01/12/giving-hearts-day-early-giving-now-open
SUMMARY:2026 Giving Hearts Day
END:VEVENT
END:VCALENDAR
