BEGIN:VCALENDAR
VERSION:2.0
PRODID:-//heartview.org//NONSGML kigkonsult.se iCalcreator 2.30.10//
CALSCALE:GREGORIAN
METHOD:PUBLISH
UID:9391983d-1cf0-4d93-95c5-f21e0625cd40
X-WR-CALDESC:Bismarck-Burleigh Public Health and the Heartview Foundation a
 re providing a free 45 minute training sessions open to the community\, in
 cluding businesses and/or individuals interested in learning how to recogn
 ize and respond to an opioid overdose emergency using Narcan Nasal Spray. 
 Register by March 4.
X-WR-RELCALID:a1d32b1c680040b5ea50067e2c3871e2
X-WR-TIMEZONE:America/Chicago
BEGIN:VTIMEZONE
TZID:America/Chicago
BEGIN:STANDARD
TZNAME:CST
DTSTART:20251102T020000
TZOFFSETFROM:-0500
TZOFFSETTO:-0600
RDATE:20261101T020000
END:STANDARD
BEGIN:DAYLIGHT
TZNAME:CDT
DTSTART:20250309T020000
TZOFFSETFROM:-0600
TZOFFSETTO:-0500
RDATE:20260308T020000
RDATE:20270314T020000
END:DAYLIGHT
END:VTIMEZONE
BEGIN:VEVENT
UID:35344f7f-e976-46bc-8a36-45e17dbf89f2
DTSTAMP:20260423T020742Z
DESCRIPTION:Bismarck-Burleigh Public Health and the Heartview Foundation ar
 e providing a free 45 minute training sessions open to the community\, inc
 luding businesses and/or individuals interested in learning how to recogni
 ze and respond to an opioid overdose emergency using Narcan Nasal Spray. R
 egister by March 4.
DTSTART;TZID=America/Chicago:20260305T180000
DTEND;TZID=America/Chicago:20260305T190000
LOCATION:407 South 26th Street\, Bismarck\, ND 58504 US
SUMMARY:Narcan Training
END:VEVENT
END:VCALENDAR
